BEGIN:VCALENDAR
VERSION:2.0
PRODID:-//InvisionCommunity Events 4.7.12//EN
METHOD:PUBLISH
CALSCALE:GREGORIAN
REFRESH-INTERVAL:PT15M
X-PUBLISHED-TTL:PT15M
X-WR-CALNAME:Todos los calendarios - FORO-PTC.COM | Ganar Dinero\, Invers
	iones\, Trading\, Seo y Mas.
NAME:Todos los calendarios - FORO-PTC.COM | Ganar Dinero\, Invers
	iones\, Trading\, Seo y Mas.
BEGIN:VTIMEZONE
TZID:Europe/London
TZURL:http://tzurl.org/zoneinfo/Europe/London
X-LIC-LOCATION:Europe/London
BEGIN:DAYLIGHT
TZOFFSETFROM:+0000
TZOFFSETTO:+0100
TZNAME:BST
DTSTART:20240331T020000Z
RRULE:FREQ=YEARLY;BYMONTH=3;BYDAY=-1SU
END:DAYLIGHT
BEGIN:STANDARD
TZOFFSETFROM:+0100
TZOFFSETTO:+0000
TZNAME:GMT
DTSTART:20241027T020000Z
RRULE:FREQ=YEARLY;BYMONTH=10;BYDAY=-1SU
END:STANDARD
END:VTIMEZONE
BEGIN:VEVENT
SUMMARY:Sight Care Reviews (Real User EXPERIENCE) Reviews of Ingredi
	ents and Price!
DTSTAMP:20240803T092855Z
SEQUENCE:0
UID:5-1-a6082b8429096fd9ce60ba3adc1fde90@foro-ptc.co
ORGANIZER;CN="luckyadkinsu":no-reply@foro-ptc.co
DESCRIPTION:\n	Potential Side Effects\n\n\n\n	While Sight Care is genera
	lly considered safe for most people\, some individuals may experience mild
	 side effects. These can include:\n\n\n\n	\n		Digestive Issues: Some users
	 may experience mild digestive discomfort\, such as nausea or upset stomac
	h\, especially when taking the supplement on an empty stomach.\n	\n	\n		Al
	lergic Reactions: Individuals with allergies to any of the ingredients in 
	Sight Care should avoid using the product to prevent allergic reactions.\n
		\n	\n		Interactions with Medications: Sight Care may interact with certai
	n medications. It is essential to consult with a healthcare professional b
	efore starting any new supplement\, especially if you are taking prescript
	ion medications.\n	\n\n\n\n	 \n\n\n\n	·         Exclusive Discou
	nt - Click Here To Buy Your Product Now\n\n\n\n	 \n\n\n\n	\n		Customer Re
	views and Testimonials\n	\n	\n		Positive Reviews\n	\n\n\n\n	Many users hav
	e reported positive experiences with Sight Care\, noting improvements in t
	heir vision and overall eye health. Here are some testimonials from satisf
	ied customers:\n\n\n\n	\n		John D.: \"I've been using Sight Care for a few
	 months now\, and I've noticed a significant improvement in my vision. My 
	eyes feel less strained\, and I can see more clearly\, especially at night
	.\"\n	\n\n\n\n	Mary S.: \"Sight Care has been a game-changer for me. I spe
	nd long hours in front of the computer\, and my eyes used to feel tired an
	d dry. Since I started taking this supplement\, my eyes feel much better\,
	 and I don't SightCare Supplement as much fatigue.\"\n\n\n\n	\n		Robert T.
	: \"As someone who has been dealing with age-related vision issues\, Sight
	 Care has been a great help. My vision is clearer\, and I feel more confid
	ent driving at night.\"\n	\n	\n		 \n	\n	\n		Negative Reviews\n	\n\n\n\n	W
	hile the majority of reviews are positive\, some users have reported less 
	favorable experiences:\n\n\n\n	\n		Jane P.: \"I didn't notice much of a di
	fference after taking Sight Care for a month. Maybe it works for others\, 
	but it didn't seem to do much for me.\"\n	\n	\n		Michael R.: \"I experienc
	ed some mild stomach discomfort after taking Sight Care. It's not severe\,
	 but it's enough to make me reconsider continuing with the supplement.\"\n
		\n	\n		 \n	\n	\n		Conclusion\n	\n\n\n\n	Sight Care is a vision health su
	pplement that offers a range of benefits for maintaining and improving eye
	 health. Its blend of natural ingredients\, including lutein\, zeaxanthin\
	, vitamins A\, C\, and E\, zinc\, bilberry extract\, and grape seed extrac
	t\, work together to support visual acuity\, protect against oxidative str
	ess\, reduce eye fatigue\, and support age-related vision issues.\n\n\n\n	
	While many users have reported positive results\, it is essential to remem
	ber that individual experiences may vary. As with any supplement\, it is c
	rucial to consult with a healthcare professional before starting Sight Car
	e\, especially if you have existing health conditions or are taking other 
	medications.\n\n\n\n	Overall\, Sight Care appears to be a promising option
	 for those looking to support their eye health and maintain optimal vision
	 as they age. By incorporating Sight Care into a comprehensive approach to
	 eye care\, including a healthy diet\, regular eye exams\, and protective 
	measures against blue light\, individuals can take proactive steps toward 
	preserving their vision for years to come.\n\n\n\n	 \n\n\n\n	BUY SIGHT CA
	RE SUPPLEMENT TODAY\n\n\n\n	https://www.thereporter.com/2023/12/11/sight-c
	are-supplement-reviews-scam-warning-eye-care-with-sightcare-at-just-49/\n\
	n\n\n	Get More info&gt\;\n\n\n\n	https://www.moneycontrol.com/news/brand-c
	onnect/sight-care-reviews-controversial-report-does-sightcare-supplement-r
	eally-work-for-eyes-11714931.html\n\n
DTSTART:20240802T183000Z
END:VEVENT
END:VCALENDAR
